BEGIN:VCALENDAR
VERSION:2.0
PRODID:-//Universitatea de Medicină și Farmacie Victor Babeș | TIMIȘOARA - ECPv6.15.17//NONSGML v1.0//EN
CALSCALE:GREGORIAN
METHOD:PUBLISH
X-ORIGINAL-URL:https://www.umft.ro
X-WR-CALDESC:Evenimente pentru Universitatea de Medicină și Farmacie Victor Babeș | TIMIȘOARA
REFRESH-INTERVAL;VALUE=DURATION:PT1H
X-Robots-Tag:noindex
X-PUBLISHED-TTL:PT1H
BEGIN:VTIMEZONE
TZID:Europe/Helsinki
BEGIN:DAYLIGHT
TZOFFSETFROM:+0200
TZOFFSETTO:+0300
TZNAME:EEST
DTSTART:20240331T010000
END:DAYLIGHT
BEGIN:STANDARD
TZOFFSETFROM:+0300
TZOFFSETTO:+0200
TZNAME:EET
DTSTART:20241027T010000
END:STANDARD
BEGIN:DAYLIGHT
TZOFFSETFROM:+0200
TZOFFSETTO:+0300
TZNAME:EEST
DTSTART:20250330T010000
END:DAYLIGHT
BEGIN:STANDARD
TZOFFSETFROM:+0300
TZOFFSETTO:+0200
TZNAME:EET
DTSTART:20251026T010000
END:STANDARD
BEGIN:DAYLIGHT
TZOFFSETFROM:+0200
TZOFFSETTO:+0300
TZNAME:EEST
DTSTART:20260329T010000
END:DAYLIGHT
BEGIN:STANDARD
TZOFFSETFROM:+0300
TZOFFSETTO:+0200
TZNAME:EET
DTSTART:20261025T010000
END:STANDARD
END:VTIMEZONE
BEGIN:VEVENT
DTSTART;TZID=Europe/Helsinki:20251007T180000
DTEND;TZID=Europe/Helsinki:20251125T200000
DTSTAMP:20260425T063759
CREATED:20250923T115902Z
LAST-MODIFIED:20251121T073457Z
UID:116482-1759860000-1764100800@www.umft.ro
SUMMARY:Inteligența Artificială în Medicină | o serie de cursuri esențiale pentru viitorul practicii medicale | 2025
DESCRIPTION:Se încheie o eră și începe alta! Seara Cazurilor Clinice revine sub o altă formă\, Inteligența Artificială în Medicină\, o serie de cursuri esențiale pentru viitorul practicii medicale. \nVom explora rolul inteligenței artificiale de la diagnostic și tratament\, până la cercetare. \nCum te ajută un algoritm să iei decizii mai bune? Cum poți folosi AI-ul ca pe un aliat? \nVino să descoperi: \n\nImportanța AI-ului în medicina viitorului\nAplicații practice pentru toate specialitățile\nCum să te adaptezi la noile tehnologii\n\nCui ne adresăm? \nStudenți\, rezidenți și medici de toate specialitățile. \nCând?\nÎn perioada 7 octombrie – 25 noiembrie 2025 (săptămânal)\, în intervalul orar 18:00 – 20:00 \nUnde? \nAmfiteatrul Aula Magna (UMFVBT) \n  \nInvitați: Prof. dr. Dorel Săndesc\, Prof. dr. Ioan Sporea\, Prof. dr. Florin Bârsășteanu\, Prof. dr. Bogdan Timar\, Prof. dr. Daniel Lighezan \n\nPuteți să ne scrieți sugestiile/curiozitățile dumneavoastră pe ai.medicina@umft.ro. \n📸 Galerie foto (click aici)
URL:https://www.umft.ro/event/inteligenta-artificiala-in-medicina-o-serie-de-cursuri-esentiale-pentru-viitorul-practicii-medicale-2025/
LOCATION:Aula Magna\, Timișoara
CATEGORIES:UMFVBT
ATTACH;FMTTYPE=image/jpeg:https://www.umft.ro/wp-content/uploads/2025/09/inteligenta-artificiala-in-medicina_final_2025-scaled.jpg
END:VEVENT
BEGIN:VEVENT
DTSTART;TZID=Europe/Helsinki:20251030T170000
DTEND;TZID=Europe/Helsinki:20251218T183000
DTSTAMP:20260425T063759
CREATED:20251020T103010Z
LAST-MODIFIED:20251020T103010Z
UID:119877-1761843600-1766082600@www.umft.ro
SUMMARY:SPRACHCLUB DEUTSCH MEDIZIN  Ediția a IV-a | Limba germană în context medical - Serie de ateliere pentru studenți | octombrie – decembrie 2025
DESCRIPTION:Înscrieri: 20-26 octombrie 2025  (număr limitat de locuri)\nFormular: aici \n  \nConținut: Exersarea comunicării în limba germană în context medical\, fixarea limbajului general și de specialitate necesar în dialogul medic-pacient\, dialogul între specialiști din domeniul medical sau în cel cu aparținătorii\, înțelegerea și prelucrarea informației din textul științific. Activitățile se concentrează pe interacțiune și mediere\, precum și producere și receptare (scrisă și orală)\, pe dezvoltarea competențelor de comunicare necesare celor ce doresc să utilizeze limba germană acum sau în viitor în specialitatea aleasă. \nCui se adresează?\nStudenților UMFVBT cunoscători ai limbii germane nivel mediu și avansat (B1-C1) \nCalendar: \n\n3 ateliere programate în perioada octombrie – decembrie 2025;\ndate de desfășurare: 30 octombrie\, 20 noiembrie\, 18 decembrie – ora 17-18:30; \nloc: clădirea Poșta Mare\, et. I.\n\nCoordonator: Conf. univ. dr. Daniela Kohn\n(Catedra universitară Limbi moderne și limba română)\nContact: kohn.daniela@umft.ro \n 
URL:https://www.umft.ro/event/sprachclub-deutsch-medizin-editia-a-iv-a-limba-germana-in-context-medical-serie-de-ateliere-pentru-studenti-octombrie-decembrie-2025/
LOCATION:Clădirea Poșta Mare\, et. I\, Timisoara
CATEGORIES:UMFVBT,Workshop
ATTACH;FMTTYPE=image/jpeg:https://www.umft.ro/wp-content/uploads/2025/10/sprachclub-editia-4_2025-scaled.jpg
END:VEVENT
BEGIN:VEVENT
DTSTART;TZID=Europe/Helsinki:20251122T080000
DTEND;TZID=Europe/Helsinki:20251123T170000
DTSTAMP:20260425T063759
CREATED:20251103T133044Z
LAST-MODIFIED:20251103T133044Z
UID:120857-1763798400-1763917200@www.umft.ro
SUMMARY:Cursul postuniversitar Imagistica musculoscheletală în practica clinică – MSK IMAGE
DESCRIPTION:Cursul postuniversitar Imagistica musculoscheletală în practica clinică – MSK IMAGE își propune să faciliteze actualizarea și aprofundarea cunoștințelor medicului practician în domeniul imagisticii medicale prin promovarea unei abordări integrative\, multidisciplinare. Obiectivul principal este colaborarea și armonizarea procesului de diagnostic și tratament al pacienților cu afecțiuni musculoscheletale. Pentru îndeplinirea acestui obiectiv vor conferenția specialiști clinicieni din cele mai imortante centre universitare din Romania in specialitatea Reumatologie\, Ortopedie\, Medicină de recuperare. Cursul va cuprinde două module: un modul teoretic (ecografie musculoscheletală\, rezonanță magnetică\, computer tomografie\, radiologie\, capilaroscopie\, osteodensitometrie) și un modul de cazuri clinice care va include demonstrații practice (live demonsration) în domeniul ecografiei musculoscheletale și capilaroscopiei. \nData și locul de desfășurare: \n\n22 noiembrie\, Hotel Opera (Str. Piatra Craiului 4\, Timișoara)\n23 noiembrie\, Sala Iagnov\, Universitatea de Medicină și Farmacie „Victor Babeș” Timișoara\n\nEvenimentul se adreseaza medicilor specialiști si rezidenți în specialitățile reumatologie\, medicină fizică și de recuperare\, ortopedie. \nÎnscrierea se va efectua până la data de 18 noiembrie\, urmând procedura de inscriere la cursurile postuniversitare ale UMF “Victor Babeș” din Timișoara.
URL:https://www.umft.ro/event/cursul-postuniversitar-imagistica-musculoscheletala-in-practica-clinica-msk-image/
LOCATION:UMFVBT
CATEGORIES:Cursuri Postuniversitare,UMFVBT
ATTACH;FMTTYPE=image/jpeg:https://www.umft.ro/wp-content/uploads/2025/11/Afis-MSK-octombrie-2025.jpg
END:VEVENT
END:VCALENDAR