BEGIN:VCALENDAR
VERSION:2.0
PRODID:-//Universitatea de Medicină și Farmacie Victor Babeș | TIMIȘOARA - ECPv6.15.17//NONSGML v1.0//EN
CALSCALE:GREGORIAN
METHOD:PUBLISH
X-ORIGINAL-URL:https://www.umft.ro
X-WR-CALDESC:Evenimente pentru Universitatea de Medicină și Farmacie Victor Babeș | TIMIȘOARA
REFRESH-INTERVAL;VALUE=DURATION:PT1H
X-Robots-Tag:noindex
X-PUBLISHED-TTL:PT1H
BEGIN:VTIMEZONE
TZID:Europe/Helsinki
BEGIN:DAYLIGHT
TZOFFSETFROM:+0200
TZOFFSETTO:+0300
TZNAME:EEST
DTSTART:20240331T010000
END:DAYLIGHT
BEGIN:STANDARD
TZOFFSETFROM:+0300
TZOFFSETTO:+0200
TZNAME:EET
DTSTART:20241027T010000
END:STANDARD
BEGIN:DAYLIGHT
TZOFFSETFROM:+0200
TZOFFSETTO:+0300
TZNAME:EEST
DTSTART:20250330T010000
END:DAYLIGHT
BEGIN:STANDARD
TZOFFSETFROM:+0300
TZOFFSETTO:+0200
TZNAME:EET
DTSTART:20251026T010000
END:STANDARD
BEGIN:DAYLIGHT
TZOFFSETFROM:+0200
TZOFFSETTO:+0300
TZNAME:EEST
DTSTART:20260329T010000
END:DAYLIGHT
BEGIN:STANDARD
TZOFFSETFROM:+0300
TZOFFSETTO:+0200
TZNAME:EET
DTSTART:20261025T010000
END:STANDARD
END:VTIMEZONE
BEGIN:VEVENT
DTSTART;TZID=Europe/Helsinki:20251030T170000
DTEND;TZID=Europe/Helsinki:20251218T183000
DTSTAMP:20260425T005334
CREATED:20251020T103010Z
LAST-MODIFIED:20251020T103010Z
UID:119877-1761843600-1766082600@www.umft.ro
SUMMARY:SPRACHCLUB DEUTSCH MEDIZIN  Ediția a IV-a | Limba germană în context medical - Serie de ateliere pentru studenți | octombrie – decembrie 2025
DESCRIPTION:Înscrieri: 20-26 octombrie 2025  (număr limitat de locuri)\nFormular: aici \n  \nConținut: Exersarea comunicării în limba germană în context medical\, fixarea limbajului general și de specialitate necesar în dialogul medic-pacient\, dialogul între specialiști din domeniul medical sau în cel cu aparținătorii\, înțelegerea și prelucrarea informației din textul științific. Activitățile se concentrează pe interacțiune și mediere\, precum și producere și receptare (scrisă și orală)\, pe dezvoltarea competențelor de comunicare necesare celor ce doresc să utilizeze limba germană acum sau în viitor în specialitatea aleasă. \nCui se adresează?\nStudenților UMFVBT cunoscători ai limbii germane nivel mediu și avansat (B1-C1) \nCalendar: \n\n3 ateliere programate în perioada octombrie – decembrie 2025;\ndate de desfășurare: 30 octombrie\, 20 noiembrie\, 18 decembrie – ora 17-18:30; \nloc: clădirea Poșta Mare\, et. I.\n\nCoordonator: Conf. univ. dr. Daniela Kohn\n(Catedra universitară Limbi moderne și limba română)\nContact: kohn.daniela@umft.ro \n 
URL:https://www.umft.ro/event/sprachclub-deutsch-medizin-editia-a-iv-a-limba-germana-in-context-medical-serie-de-ateliere-pentru-studenti-octombrie-decembrie-2025/
LOCATION:Clădirea Poșta Mare\, et. I\, Timisoara
CATEGORIES:UMFVBT,Workshop
ATTACH;FMTTYPE=image/jpeg:https://www.umft.ro/wp-content/uploads/2025/10/sprachclub-editia-4_2025-scaled.jpg
END:VEVENT
BEGIN:VEVENT
DTSTART;TZID=Europe/Helsinki:20251127T143000
DTEND;TZID=Europe/Helsinki:20251127T163000
DTSTAMP:20260425T005334
CREATED:20251031T102403Z
LAST-MODIFIED:20251031T103047Z
UID:120754-1764253800-1764261000@www.umft.ro
SUMMARY:ERASMUS+ DAY 2025
DESCRIPTION:Are you a student of ”Victor Babeș” University of Medicine and Pharmacy\, Timișoara?\nDo you feel your life needs a boost?\nAre you dreaming about an international experience? \nThen you MUST participate in an ERASMUS+ mobility because our motto is ERASMUS+ – CHANGING LIVES\, OPENING MINDS! \nIf you don’t know much about it\, we will be more than happy to explain everything to you if you participate in our Erasmus+ Info Day\, at 2.30 p. m.\, on 27 November 2025\, in the Senate Hall. \n\n”What are the conditions to participate in an Erasmus+ mobility?”\n”How do I apply for an Erasmus+ grant?”\n”What is the minimum/maximum period of a study/placement mobility?”\n”How much is the monthly grant and how is it calculated?”\n”What is a zero grant student?”\n”What happens after the mobility? Will my exams be recognized and validated?”\n\nThese are only a few of the questions you will get answers to if you participate in the Erasmus+ Day. \nLooking forward to meet you there! \nAll interested participants are asked to send us a confirmation mail to relint@umft.ro. \n#ErasmusDays #ErasmusPlus #Mobility #UMFVBT #Once ErasmusAlwaysErasmus #internationaltimisoara #internationalization \n\nEști student la Universitatea de Medicină și Farmacie ”Victor Babeș” din Timișoara?\nSimți nevoia unei schimbări în bine în viața ta?\nVisezi la o experiență internațională? \nAtunci trebuie neapărat să participi la o mobilitate ERASMUS+ deoarece motto-ul programului este ERASMUS+ – CHANGING LIVES\, OPENING MINDS! \nNu știi despre ce este vorba? Îți explicăm noi dacă vii la Erasmus+ Info Day în data de 27 noiembrie\, ora 14\,30\, în Sala Senatului. \n\n”Care sunt condițiile în care poți participa la o mobilitate Erasmus+?”\n”Cum aplici pentru o bursă Erasmus+?”\n”Care este perioada minimă/maximă a unei mobilități de studiu/plasament?”\n”Care este grantul lunar și cum se calculează?”\n”Ce înseamnă student cu grant zero?”\n”Cum se face echivalarea rezultatelor obținute în timpul mobilității?”\n\nAcestea sunt doar câteva din întrebările la care puteți primi răspuns dacă participați la Erasmus+ Info Day. \nVă așteptăm cu drag!\nrelint@umft.ro \n#ErasmusDays #ErasmusPlus #Mobility #UMFVBT #Once ErasmusAlwaysErasmus #internationaltimisoara #internationalization
URL:https://www.umft.ro/event/erasmus-day-2025/
LOCATION:Sala Senatului a UMFVBT\, Timișoara\, Romania
CATEGORIES:Events_EN,Events_FR,UMFVBT
ATTACH;FMTTYPE=image/jpeg:https://www.umft.ro/wp-content/uploads/2025/10/Afis-ERASMUS-DAY-2026_EN.jpg
END:VEVENT
END:VCALENDAR