BEGIN:VCALENDAR
VERSION:2.0
PRODID:-//Universitatea de Medicină și Farmacie Victor Babeș | TIMIȘOARA - ECPv6.15.17//NONSGML v1.0//EN
CALSCALE:GREGORIAN
METHOD:PUBLISH
X-WR-CALNAME:Universitatea de Medicină și Farmacie Victor Babeș | TIMIȘOARA
X-ORIGINAL-URL:https://www.umft.ro
X-WR-CALDESC:Evenimente pentru Universitatea de Medicină și Farmacie Victor Babeș | TIMIȘOARA
REFRESH-INTERVAL;VALUE=DURATION:PT1H
X-Robots-Tag:noindex
X-PUBLISHED-TTL:PT1H
BEGIN:VTIMEZONE
TZID:Europe/Helsinki
BEGIN:DAYLIGHT
TZOFFSETFROM:+0200
TZOFFSETTO:+0300
TZNAME:EEST
DTSTART:20250330T010000
END:DAYLIGHT
BEGIN:STANDARD
TZOFFSETFROM:+0300
TZOFFSETTO:+0200
TZNAME:EET
DTSTART:20251026T010000
END:STANDARD
BEGIN:DAYLIGHT
TZOFFSETFROM:+0200
TZOFFSETTO:+0300
TZNAME:EEST
DTSTART:20260329T010000
END:DAYLIGHT
BEGIN:STANDARD
TZOFFSETFROM:+0300
TZOFFSETTO:+0200
TZNAME:EET
DTSTART:20261025T010000
END:STANDARD
BEGIN:DAYLIGHT
TZOFFSETFROM:+0200
TZOFFSETTO:+0300
TZNAME:EEST
DTSTART:20270328T010000
END:DAYLIGHT
BEGIN:STANDARD
TZOFFSETFROM:+0300
TZOFFSETTO:+0200
TZNAME:EET
DTSTART:20271031T010000
END:STANDARD
END:VTIMEZONE
BEGIN:VEVENT
DTSTART;TZID=Europe/Helsinki:20260326T090000
DTEND;TZID=Europe/Helsinki:20260327T170000
DTSTAMP:20260420T195150
CREATED:20260324T131800Z
LAST-MODIFIED:20260324T131800Z
UID:138541-1774515600-1774630800@www.umft.ro
SUMMARY:Curs postuniversitar Curs practic de punctie tiroidiana | 2026
DESCRIPTION:În perioada 26-27 Martie 2026\, Clinica universitară de Endocrinologie a UMF ”Victor Babeș” din Timișoara organizează cursul postuniversitar ”CURS PRACTIC DE PUNCȚIE TIROIDIANĂ”.\nEvenimentul științific va include 6 ore de curs și 6 ore de activități practice.\nCursul postuniversitar este creditat cu 12 CREDITE CMR\, conform Ordin CMR 7058/09.07.2025.\nCursul se adresează medicilor rezidenți\, specialiști și primari în specialitatea Endocrinologie. \nLectori și îndrumători pentru activitățile practice vor fi: \n\nProf.Dr. Mihaela Vlad\,\nProf.Dr. Dana Stoian \,\nDr. Mihaela Iacob de la  Serviciul de Anatomie Patologică al SCJUPB Timișoara\,\nConf. Dr. Melania Balaș\,\nConf. Dr. Ioana Golu\,\nȘef lucr. Dr. Daniela Amzăr\,\nȘef lucr. Dr. Ioana Miloș\,\nAsist.univ.Dr. Ana Corlan\,\nAsist.univ. Dr. Oana Popa\,\nAsist.univ.dr. Iulia Plotuna.\n\nDeschiderea oficială a cursului va avea loc în data de 26 Martie 2026\, la ora 9:00\, în Sala de conferințe a Hotelului Lido din Timișoara\, iar activitățile practice se vor desfășura în Compartimentul de Endocrinologie al Spitalului Clinic Județean de Urgență ”Pius Brînzeu”.\nInformații legate de acest curs se pot obține de la secretariatul pentru cursuri postuniversitare: cursuripostuniv@umft.ro \n 
URL:https://www.umft.ro/event/curs-postuniversitar-curs-practic-de-punctie-tiroidiana-2026/
LOCATION:Spitalului Clinic Județean de Urgență ”Pius Brînzeu” Timișoara
CATEGORIES:Cursuri Postuniversitare,UMFVBT
ATTACH;FMTTYPE=image/jpeg:https://www.umft.ro/wp-content/uploads/2026/03/Afis-curs-postuniv-Punctie-2026-scaled.jpg
END:VEVENT
BEGIN:VEVENT
DTSTART;TZID=Europe/Helsinki:20260327T080000
DTEND;TZID=Europe/Helsinki:20260327T170000
DTSTAMP:20260420T195150
CREATED:20260316T105119Z
LAST-MODIFIED:20260316T105119Z
UID:136564-1774598400-1774630800@www.umft.ro
SUMMARY:ERASMUS+ mobility interview | 2026 - 2027 academic year
DESCRIPTION:If you wish to participate in an experience that will change your life for the better\, from personal\, academic and professional development to gaining international experience\, we are waiting for you at the ERASMUS+ mobility interview for the 2026 – 2027 academic year. \nAll information related to the ERASMUS+ program\, including how to submit your application\, can be found on our website https://www.umft.ro/en/erasmus-mobility-programme-2026-2027/
URL:https://www.umft.ro/event/erasmus-mobility-interview-2026-2027-academic-year/
LOCATION:Sala Senatului a UMFVBT\, Timișoara\, Romania
CATEGORIES:Events_EN,Events_FR
ATTACH;FMTTYPE=image/jpeg:https://www.umft.ro/wp-content/uploads/2026/03/anunt-interviu_EN_2026_Erasmus.jpg
END:VEVENT
BEGIN:VEVENT
DTSTART;TZID=Europe/Helsinki:20260327T120000
DTEND;TZID=Europe/Helsinki:20260327T170000
DTSTAMP:20260420T195150
CREATED:20260316T104605Z
LAST-MODIFIED:20260316T104605Z
UID:136559-1774612800-1774630800@www.umft.ro
SUMMARY:Interviul de mobilitate ERASMUS+ | anul universitar 2026 - 2027
DESCRIPTION:Dacă vrei să participi la o experiență care îți va schimba viața în bine\, de la dezvoltare personală\, academică și profesională până la acumularea de experiență internațională\, te așteptăm la interviul de mobilitate ERASMUS+ pentru anul universitar 2026 – 2027. \nToate informațiile legate de programul ERASMUS+\, modalitatea de depunere a dosarului le găsești pe site-ul nostru https://www.umft.ro/ro/erasmus-2026-2027/
URL:https://www.umft.ro/event/interviul-de-mobilitate-erasmus-anul-universitar-2026-2027/
LOCATION:Sala Senatului a UMFVBT\, Timișoara\, Romania
CATEGORIES:UMFVBT
ATTACH;FMTTYPE=image/jpeg:https://www.umft.ro/wp-content/uploads/2026/03/anunt-interviu_RO_2026_Erasmus.jpg
END:VEVENT
END:VCALENDAR